BEGIN:VCALENDAR
VERSION:2.0
PRODID:-//wp-events-plugin.com//7.2.3.1//EN
TZID:America/New_York
X-WR-TIMEZONE:America/New_York
BEGIN:VEVENT
UID:1@southernlisticradio.com
DTSTART;VALUE=DATE:20210507
DTEND;VALUE=DATE:20210531
DTSTAMP:20210526T133503Z
URL:https://www.southernlisticradio.com/events/rb-bingo/
SUMMARY:R&B BINGO
DESCRIPTION:
ATTACH;FMTTYPE=image/jpeg:https://www.southernlisticradio.com/wp-content/u
 ploads/2021/05/ezgif.com-gif-maker-1.jpg
END:VEVENT
BEGIN:VEVENT
UID:6@southernlisticradio.com
DTSTART;TZID=America/New_York:20230310T180000
DTEND;TZID=America/New_York:20230310T180000
DTSTAMP:20230307T154820Z
URL:https://www.southernlisticradio.com/events/4721/
SUMMARY:Sunchasers and the @fleetdjsflorida presents... Bike Week 202
DESCRIPTION:Sunchasers and the @fleetdjsflorida presents... Bike Week 2023 
 "House Party Vibes Only" 🤘🏾💿💿\n[cpm-player skin="ball-skin" wi
 dth="100%" playlist="true" type="video"] [cpm-item file="https://www.south
 ernlisticradio.com/wp-content/uploads/2023/03/Bike-Week-2023-Promo.mp4"]Bi
 ke Week 2023 Promo[/cpm-item] [/cpm-player]\nThe @fleetdjs will be providi
 ng music and featuring some of the dopest djs keeping the Sunchasers Clubh
 ouse rocking for Bike Week all weekend long ‼️\nFeaturing DJ Souljalif
 e DJ Memphis DJ Will DJ Bernard B\nMarch 10th-11th!\nWe getting the Party 
 started Friday from 8pm-2am and Saturday from 6pm-2am!\n$10 Entry\nPARKING
  AVAILABLE but get there early!!\nLet's rock the party!!\n#SunchasersBikec
 lub #fleetdjsflorida #houseparty #vibe #bikeweek2023\n#djlife #oldschool #
 newschool #DaytonaBeach\n
ATTACH;FMTTYPE=image/jpeg:https://www.southernlisticradio.com/wp-content/u
 ploads/2023/03/photo_2023-02-27_19-13-48.jpg
CATEGORIES:Social Gathering
LOCATION:Daytona Bike Week\, 955 Orange Ave ste 140\, Daytona Beach\, Flori
 da\, United States
X-APPLE-STRUCTURED-LOCATION;VALUE=URI;X-ADDRESS=955 Orange Ave ste 140\, Da
 ytona Beach\, Florida\, United States;X-APPLE-RADIUS=100;X-TITLE=Daytona B
 ike Week:geo:0,0
END:VEVENT
BEGIN:VEVENT
UID:4@southernlisticradio.com
DTSTART;TZID=America/New_York:20230408T190000
DTEND;TZID=America/New_York:20230408T230000
DTSTAMP:20230217T195331Z
URL:https://www.southernlisticradio.com/events/dj-dirty-family-meet-greet-
 pt4/
SUMMARY:DJ DIRTY & FAMILY MEET & GREET PT4
DESCRIPTION:\nLauren's Seafood Blues &amp\; Jazz Presents DJ Dirty &amp\; F
 amily Meet and Greet Pt4\nFeaturing Southern Soul Artist Big Sambo - Klay 
 Bankz - Shelton Richardson Performing LIVE\nalso Setting the Vide DJ DIRTY
  &amp\; DJ BERNARD B\n[audio mp3="https://www.southernlisticradio.com/wp-c
 ontent/uploads/2023/02/DIRTY-MEET-GREET-PART-4.mp3"][/audio]
ATTACH;FMTTYPE=image/jpeg:https://www.southernlisticradio.com/wp-content/u
 ploads/2023/02/Dirty-Meet-Greet2.jpg
LOCATION:Lauren's Seafood Blues & Jazz\, 9501 Arlington Exwy \, Jacksonvill
 e\, Florida\, United States
X-APPLE-STRUCTURED-LOCATION;VALUE=URI;X-ADDRESS=9501 Arlington Exwy \, Jack
 sonville\, Florida\, United States;X-APPLE-RADIUS=100;X-TITLE=Lauren's Sea
 food Blues & Jazz:geo:0,0
END:VEVENT
BEGIN:VEVENT
UID:5@southernlisticradio.com
DTSTART;TZID=America/New_York:20230630T190000
DTEND;TZID=America/New_York:20230630T230000
DTSTAMP:20230307T143933Z
URL:https://www.southernlisticradio.com/events/southern-soul-summer-jam/
SUMMARY:Southern Soul Summer Jam
DESCRIPTION:TICKETS GOING FAST  Kicking it off  with Southern Soul Summer
  Jam Featuring Tucka &gt\; TK Soul &gt\; Jeff Floyd &gt\; Ronnie Bell &gt\
 ; King South &gt\; Nellie Tiger Travis \n
ATTACH;FMTTYPE=image/jpeg:https://www.southernlisticradio.com/wp-content/u
 ploads/2023/03/Ss-concert-june.jpg
LOCATION:Jacksonville Center of Performing Arts\, 300 Waters St \, Jacksonv
 ille\, Fl\, 32202\, Duval\, United States
X-APPLE-STRUCTURED-LOCATION;VALUE=URI;X-ADDRESS=300 Waters St \, Jacksonvil
 le\, Fl\, 32202\, Duval\, United States;X-APPLE-RADIUS=100;X-TITLE=Jackson
 ville Center of Performing Arts:geo:0,0
END:VEVENT
BEGIN:VEVENT
UID:7@southernlisticradio.com
DTSTART;TZID=America/New_York:20240103T170000
DTEND;TZID=America/New_York:20240103T220000
DTSTAMP:20240102T234144Z
URL:https://www.southernlisticradio.com/events/after-work-steppin-wcw-live
 -bar/
SUMMARY:After Work Steppin WCW @LIVE BAR
DESCRIPTION:FREE ENTRY ..\nFREE VIP (4) ...\nFREE VIP &amp\; FREE BOTTLE (5
  or more)\nall VIP MUST BE RSVP text 9943827207 \nEVERY WEDNESDAY HAPPY HO
 UR 5-8pm 2-4-1 FOOD SPECIALS RnB Vibe for the Truly Grown Crowd @LIVE BAR 
 331 East Bay St\n\n
CATEGORIES:Live Music/ Band,Resturant &amp; Lounge,Social Gathering
LOCATION:Live Bar\, 331 West Adams ST\, Jacksonville \, Fla Duval\, 32210\,
  United States
X-APPLE-STRUCTURED-LOCATION;VALUE=URI;X-ADDRESS=331 West Adams ST\, Jackson
 ville \, Fla Duval\, 32210\, United States;X-APPLE-RADIUS=100;X-TITLE=Live
  Bar:geo:0,0
END:VEVENT
BEGIN:VEVENT
UID:8@southernlisticradio.com
DTSTART;TZID=America/New_York:20250903T180000
DTEND;TZID=America/New_York:20250903T220000
DTSTAMP:20250902T222825Z
URL:https://www.southernlisticradio.com/events/wcw-wednesday-karaoke-nite/
SUMMARY:WCW Wednesday Karaoke Nite
DESCRIPTION:Allusions Restaurant &amp\; Lounge is hosting a karaoke night\,
  featuring WCW karaoke \, 2 for 1 drinks until 8pm\, and free admission a
 ll night.Grown-folk FREE ENTRY FREE PARKING on screen lyrics HAPPY HOUR do
 ors open at 5pm $20 seafood sampler $5 frozen daiquiri $10top shelf happy 
 hour specials  Join us for an enjoyable evening with food specials\, c #
 Wednesdaynightlive #allusionsjax #floridafleetdjs #grownfolksmusic #dj
 bernardb #southernlisticmusicgroup #VirgoSeason #karaoke #singalong
ATTACH;FMTTYPE=image/jpeg:https://www.southernlisticradio.com/wp-content/u
 ploads/2025/09/allusions-Karaoke_flyer_-scaled.png
CATEGORIES:Resturant &amp; Lounge,Social Gathering
LOCATION:Allusions Restaurant & Lounge\, 5045 Soutel Dr\, JACKSONVILLE/ Duv
 al\, Fla\, 32208\, United States
X-APPLE-STRUCTURED-LOCATION;VALUE=URI;X-ADDRESS=5045 Soutel Dr\, JACKSONVIL
 LE/ Duval\, Fla\, 32208\, United States;X-APPLE-RADIUS=100;X-TITLE=Allusio
 ns Restaurant & Lounge:geo:0,0
END:VEVENT
BEGIN:VTIMEZONE
TZID:America/New_York
X-LIC-LOCATION:America/New_York
BEGIN:STANDARD
DTSTART:20221106T010000
TZOFFSETFROM:-0400
TZOFFSETTO:-0500
TZNAME:EST
END:STANDARD
BEGIN:DAYLIGHT
DTSTART:20230312T030000
TZOFFSETFROM:-0500
TZOFFSETTO:-0400
TZNAME:EDT
END:DAYLIGHT
BEGIN:STANDARD
DTSTART:20231105T010000
TZOFFSETFROM:-0400
TZOFFSETTO:-0500
TZNAME:EST
END:STANDARD
BEGIN:DAYLIGHT
DTSTART:20240310T030000
TZOFFSETFROM:-0500
TZOFFSETTO:-0400
TZNAME:EDT
END:DAYLIGHT
BEGIN:STANDARD
DTSTART:20241103T010000
TZOFFSETFROM:-0400
TZOFFSETTO:-0500
TZNAME:EST
END:STANDARD
BEGIN:DAYLIGHT
DTSTART:20250309T030000
TZOFFSETFROM:-0500
TZOFFSETTO:-0400
TZNAME:EDT
END:DAYLIGHT
END:VTIMEZONE
END:VCALENDAR